BEGIN:VCALENDAR
VERSION:2.0
PRODID:icalendar-ruby
CALSCALE:GREGORIAN
METHOD:PUBLISH
BEGIN:VEVENT
DTSTAMP:20260422T020725Z
UID:11-533456@wordoflifegranite.church
DTSTART:20260813T020000Z
DTEND:20260813T030500Z
CLASS:PUBLIC
CREATED:20260421T183655
DESCRIPTION:
LAST-MODIFIED:20260421T183655
LOCATION:Fellowship Hall
SUMMARY:NA meeting
URL;VALUE=URI:https://www.wordoflifegranite.church/events/na-meeting/2026-0
 8-12
ATTACH;FILENAME=F7kzZ.jpg;FMTTYPE=image/jpeg:https://dq5pwpg1q8ru0.cloudfro
 nt.net/2025/08/23/18/33/54/d2d97cb7-6941-46df-8951-24494d82a06a/F7kzZ.jpg
END:VEVENT
END:VCALENDAR
