BEGIN:VCALENDAR
VERSION:2.0
PRODID:icalendar-ruby
CALSCALE:GREGORIAN
METHOD:PUBLISH
BEGIN:VEVENT
DTSTAMP:20260422T105410Z
UID:7-533339@wordoflifegranite.church
DTSTART:20261001T003000Z
DTEND:20261001T020000Z
CLASS:PUBLIC
CREATED:20260421T183655
DESCRIPTION:
LAST-MODIFIED:20260421T183655
LOCATION:Word of Life
SUMMARY:Small Groups
URL;VALUE=URI:https://www.wordoflifegranite.church/events/small-groups/2026
 -09-30
ATTACH;FILENAME=FzOeY.jpg;FMTTYPE=image/jpeg:https://dq5pwpg1q8ru0.cloudfro
 nt.net/2025/08/23/18/32/57/e6b86fc7-6cbd-4c77-9a8a-741c07d832bf/FzOeY.jpg
END:VEVENT
END:VCALENDAR
