BEGIN:VCALENDAR
VERSION:2.0
PRODID:icalendar-ruby
CALSCALE:GREGORIAN
METHOD:PUBLISH
BEGIN:VEVENT
DTSTAMP:20260422T154549Z
UID:7-534237@wordoflifegranite.church
DTSTART:20261029T003000Z
DTEND:20261029T020000Z
CLASS:PUBLIC
CREATED:20260422T084041
DESCRIPTION:
LAST-MODIFIED:20260422T084041
LOCATION:Word of Life
SUMMARY:Small Groups
URL;VALUE=URI:https://www.wordoflifegranite.church/events/small-groups/2026
 -10-28
ATTACH;FILENAME=FzOeY.jpg;FMTTYPE=image/jpeg:https://dq5pwpg1q8ru0.cloudfro
 nt.net/2025/08/23/18/32/57/e6b86fc7-6cbd-4c77-9a8a-741c07d832bf/FzOeY.jpg
END:VEVENT
END:VCALENDAR
