BEGIN:VCALENDAR
VERSION:2.0
PRODID:icalendar-ruby
CALSCALE:GREGORIAN
METHOD:PUBLISH
BEGIN:VEVENT
DTSTAMP:20260425T162606Z
UID:8-542376@wordoflifegranite.church
DTSTART:20260904T010000Z
DTEND:20260904T030000Z
CLASS:PUBLIC
CREATED:20260425T081434
DESCRIPTION:
LAST-MODIFIED:20260425T081434
LOCATION:
SUMMARY:Soul'd Out Youth Group
URL;VALUE=URI:https://www.wordoflifegranite.church/events/sould-out-youth-g
 roup/2026-09-03
ATTACH;FILENAME=IMG_5692-EDIT.jpg;FMTTYPE=image/jpeg:https://dq5pwpg1q8ru0.
 cloudfront.net/2025/08/23/18/34/42/ba29c4bd-6d0f-48fb-b23f-8c22e17c3366/IM
 G_5692-EDIT.jpg
END:VEVENT
END:VCALENDAR
