BEGIN:VCALENDAR
VERSION:2.0
PRODID:icalendar-ruby
CALSCALE:GREGORIAN
METHOD:PUBLISH
BEGIN:VEVENT
DTSTAMP:20260426T035020Z
UID:8-544185@wordoflifegranite.church
DTSTART:20261106T020000Z
DTEND:20261106T040000Z
CLASS:PUBLIC
CREATED:20260425T190017
DESCRIPTION:
LAST-MODIFIED:20260425T190017
LOCATION:
SUMMARY:Soul'd Out Youth Group
URL;VALUE=URI:https://www.wordoflifegranite.church/events/sould-out-youth-g
 roup/2026-11-05
ATTACH;FILENAME=IMG_5692-EDIT.jpg;FMTTYPE=image/jpeg:https://dq5pwpg1q8ru0.
 cloudfront.net/2025/08/23/18/34/42/ba29c4bd-6d0f-48fb-b23f-8c22e17c3366/IM
 G_5692-EDIT.jpg
END:VEVENT
END:VCALENDAR
