BEGIN:VCALENDAR
VERSION:2.0
PRODID:icalendar-ruby
CALSCALE:GREGORIAN
METHOD:PUBLISH
BEGIN:VEVENT
DTSTAMP:20260422T082021Z
UID:5-533273@wordoflifegranite.church
DTSTART:20260906T170000Z
DTEND:20260906T180000Z
CLASS:PUBLIC
CREATED:20260421T183654
DESCRIPTION:Sunday Worship
LAST-MODIFIED:20260421T183654
LOCATION:
SUMMARY:Sunday Worship
URL;VALUE=URI:https://www.wordoflifegranite.church/events/sunday-worship/20
 26-09-06
END:VEVENT
END:VCALENDAR
