BEGIN:VCALENDAR
VERSION:2.0
PRODID:icalendar-ruby
CALSCALE:GREGORIAN
METHOD:PUBLISH
BEGIN:VEVENT
DTSTAMP:20260422T132549Z
UID:5-533724@wordoflifegranite.church
DTSTART:20261004T170000Z
DTEND:20261004T180000Z
CLASS:PUBLIC
CREATED:20260422T054525
DESCRIPTION:Sunday Worship
LAST-MODIFIED:20260422T054525
LOCATION:
SUMMARY:Sunday Worship
URL;VALUE=URI:https://www.wordoflifegranite.church/events/sunday-worship/20
 26-10-04
END:VEVENT
END:VCALENDAR
