BEGIN:VCALENDAR
VERSION:2.0
PRODID:icalendar-ruby
CALSCALE:GREGORIAN
METHOD:PUBLISH
BEGIN:VEVENT
DTSTAMP:20260422T180834Z
UID:5-534175@wordoflifegranite.church
DTSTART:20261101T180000Z
DTEND:20261101T190000Z
CLASS:PUBLIC
CREATED:20260422T084041
DESCRIPTION:Sunday Worship
LAST-MODIFIED:20260422T084041
LOCATION:
SUMMARY:Sunday Worship
URL;VALUE=URI:https://www.wordoflifegranite.church/events/sunday-worship/20
 26-11-01
END:VEVENT
END:VCALENDAR
